BEGIN:VCALENDAR
VERSION:2.0
PRODID:-//ddaysoftware.com//NONSGML DDay.iCal 1.0//EN
BEGIN:VTIMEZONE
TZID:W. Europe Standard Time
BEGIN:STANDARD
DTSTART:20251002T030000
RRULE:FREQ=YEARLY;BYDAY=-1SU;BYHOUR=3;BYMINUTE=0;BYMONTH=10
TZNAME:W. Europe Standard Time
TZOFFSETFROM:+0200
TZOFFSETTO:+0100
END:STANDARD
BEGIN:DAYLIGHT
DTSTART:20250301T020000
RRULE:FREQ=YEARLY;BYDAY=-1SU;BYHOUR=2;BYMINUTE=0;BYMONTH=3
TZNAME:W. Europe Daylight Time
TZOFFSETFROM:+0100
TZOFFSETTO:+0200
END:DAYLIGHT
END:VTIMEZONE
BEGIN:VEVENT
CATEGORIES:Kultur
CATEGORIES:Schloss Höchstädt
CATEGORIES:Museen
CATEGORIES:Ausstellungen
CATEGORIES:Familie
CATEGORIES:Jugendliche
CATEGORIES:Kinder
DESCRIPTION:Weltkindertag 2026 - Aktionstag in Höchstädt unter Beteiligung 
 von Bezirk Schwaben\, Stadt Höchstädt\, Evang.-Luth. Kirchengemeinde Höchs
 tädt und Kath. Pfarreiengemeinschaft Höchstädt\n\nVeranstalter: Bezirk Sch
 waben\n\nhttps://hoechstaedt.bezirk-schwaben.de/aktuelles-presse/alle-vera
 nstaltungen/weltkindertag-2026
DTEND:20260922T170000
DTSTAMP:20260421T083908Z
DTSTART:20260922T140000
LOCATION:Schloss Höchstädt: Herzogin-Anna-Straße 52\, 89420 Höchstädt an de
 r Donau
SEQUENCE:0
SUMMARY:Weltkindertag im Kulturschloss Höchstädt – Ein Tag für die ganze Fa
 milie!
UID:29949
URL:https://hoechstaedt.bezirk-schwaben.de/aktuelles-presse/alle-veranstalt
 ungen/weltkindertag-2026
END:VEVENT
END:VCALENDAR
