BEGIN:VCALENDAR
VERSION:2.0
PRODID:-//ddaysoftware.com//NONSGML DDay.iCal 1.0//EN
BEGIN:VTIMEZONE
TZID:W. Europe Standard Time
BEGIN:STANDARD
DTSTART:20251002T030000
RRULE:FREQ=YEARLY;BYDAY=-1SU;BYHOUR=3;BYMINUTE=0;BYMONTH=10
TZNAME:W. Europe Standard Time
TZOFFSETFROM:+0200
TZOFFSETTO:+0100
END:STANDARD
BEGIN:DAYLIGHT
DTSTART:20250301T020000
RRULE:FREQ=YEARLY;BYDAY=-1SU;BYHOUR=2;BYMINUTE=0;BYMONTH=3
TZNAME:W. Europe Daylight Time
TZOFFSETFROM:+0100
TZOFFSETTO:+0200
END:DAYLIGHT
END:VTIMEZONE
BEGIN:VEVENT
CATEGORIES:Kultur
CATEGORIES:Schloss Höchstädt
CATEGORIES:Familie
CATEGORIES:Kinder
CATEGORIES:Konzerte
CATEGORIES:Jugendliche
DESCRIPTION:Was Kinder bewegt. Rockmusik ab 4 Jahren.\n\nVeranstalter: Bezi
 rk Schwaben\n\nhttps://hoechstaedt.bezirk-schwaben.de/aktuelles-presse/all
 e-veranstaltungen/andi-und-die-affenbande-kinderkonzert
DTEND:20251005T160000
DTSTAMP:20260421T134001Z
DTSTART:20251005T150000
LOCATION:Schloss Höchstädt: Herzogin-Anna-Straße 52\, 89420 Höchstädt an de
 r Donau
SEQUENCE:0
SUMMARY:Andi und die Affenbande: Kinderkonzert
UID:30006
URL:https://hoechstaedt.bezirk-schwaben.de/aktuelles-presse/alle-veranstalt
 ungen/andi-und-die-affenbande-kinderkonzert
END:VEVENT
END:VCALENDAR
